BEGIN:VCALENDAR
VERSION:2.0
PRODID:-//East Coast Panthers - ECPv6.15.20//NONSGML v1.0//EN
CALSCALE:GREGORIAN
METHOD:PUBLISH
X-WR-CALNAME:East Coast Panthers
X-ORIGINAL-URL:https://eastcoastpanthers.com
X-WR-CALDESC:Events for East Coast Panthers
REFRESH-INTERVAL;VALUE=DURATION:PT1H
X-Robots-Tag:noindex
X-PUBLISHED-TTL:PT1H
BEGIN:VTIMEZONE
TZID:America/New_York
BEGIN:DAYLIGHT
TZOFFSETFROM:-0500
TZOFFSETTO:-0400
TZNAME:EDT
DTSTART:20220313T070000
END:DAYLIGHT
BEGIN:STANDARD
TZOFFSETFROM:-0400
TZOFFSETTO:-0500
TZNAME:EST
DTSTART:20221106T060000
END:STANDARD
BEGIN:DAYLIGHT
TZOFFSETFROM:-0500
TZOFFSETTO:-0400
TZNAME:EDT
DTSTART:20230312T070000
END:DAYLIGHT
BEGIN:STANDARD
TZOFFSETFROM:-0400
TZOFFSETTO:-0500
TZNAME:EST
DTSTART:20231105T060000
END:STANDARD
BEGIN:DAYLIGHT
TZOFFSETFROM:-0500
TZOFFSETTO:-0400
TZNAME:EDT
DTSTART:20240310T070000
END:DAYLIGHT
BEGIN:STANDARD
TZOFFSETFROM:-0400
TZOFFSETTO:-0500
TZNAME:EST
DTSTART:20241103T060000
END:STANDARD
BEGIN:DAYLIGHT
TZOFFSETFROM:-0500
TZOFFSETTO:-0400
TZNAME:EDT
DTSTART:20250309T070000
END:DAYLIGHT
BEGIN:STANDARD
TZOFFSETFROM:-0400
TZOFFSETTO:-0500
TZNAME:EST
DTSTART:20251102T060000
END:STANDARD
END:VTIMEZONE
BEGIN:VEVENT
DTSTART;TZID=America/New_York:20240703T090000
DTEND;TZID=America/New_York:20240723T140000
DTSTAMP:20260422T063737
CREATED:20231114T114112Z
LAST-MODIFIED:20231114T114124Z
UID:3266-1719997200-1721743200@eastcoastpanthers.com
SUMMARY:Somers Summer Camp - August
DESCRIPTION:Location: Somers High School \nDates:\nAUGUST\nComing Soon \nTime:\nComing Soon \nGrade & Age:\nComing Soon \nCoach: Chris \nComing Soon
URL:https://eastcoastpanthers.com/event/somers-summer-camp-august/
LOCATION:Somers High School\, 120 Primrose St\, Lincolndale\, NY\, 10540\, United States
CATEGORIES:Summer Camp
ATTACH;FMTTYPE=image/jpeg:https://eastcoastpanthers.com/wp-content/uploads/2023/11/high-school-kids-playing-basketball-in-the-court-2021-08-28-18-09-47-utc.jpg
END:VEVENT
BEGIN:VEVENT
DTSTART;TZID=America/New_York:20240703T090000
DTEND;TZID=America/New_York:20240723T140000
DTSTAMP:20260422T063737
CREATED:20231114T113720Z
LAST-MODIFIED:20231114T113729Z
UID:3258-1719997200-1721743200@eastcoastpanthers.com
SUMMARY:Premier Athletic Club Summer Camp
DESCRIPTION:Location: Premier Athletic Club \nDates:\nJULY\nComing Soon \nTime:\nComing Soon \nGrade & Age:\nComing Soon \nCoach: Chris \nComing Soon
URL:https://eastcoastpanthers.com/event/premier-athletic-club-summer-camp/
LOCATION:Premier Athletic Club\, 2127 Albany Post Rd\, Montrose\, NY\, 10548\, United States
CATEGORIES:Summer Camp
ATTACH;FMTTYPE=image/jpeg:https://eastcoastpanthers.com/wp-content/uploads/2023/11/high-school-kids-playing-basketball-in-the-court-2021-08-28-17-20-56-utc.jpg
END:VEVENT
BEGIN:VEVENT
DTSTART;TZID=America/New_York:20240703T090000
DTEND;TZID=America/New_York:20240723T140000
DTSTAMP:20260422T063737
CREATED:20231114T113505Z
LAST-MODIFIED:20241127T090637Z
UID:3255-1719997200-1721743200@eastcoastpanthers.com
SUMMARY:Somers Summer Camp - July
DESCRIPTION:Location: Somers High School \nDates:\nJULY\nComing Soon \nTime:\nComing Soon \nGrade & Age:\nComing Soon \nCoach: Chris \nComing Soon
URL:https://eastcoastpanthers.com/event/somers-summer-camp-july/
LOCATION:Somers High School\, 120 Primrose St\, Lincolndale\, NY\, 10540\, United States
CATEGORIES:Summer Camp
ATTACH;FMTTYPE=image/jpeg:https://eastcoastpanthers.com/wp-content/uploads/2023/11/determined-high-school-kids-playing-basketball-2021-08-28-16-45-05-utc.jpg
END:VEVENT
BEGIN:VEVENT
DTSTART;TZID=America/New_York:20230724T090000
DTEND;TZID=America/New_York:20230727T150000
DTSTAMP:20260422T063737
CREATED:20230710T222231Z
LAST-MODIFIED:20230710T223151Z
UID:3099-1690189200-1690470000@eastcoastpanthers.com
SUMMARY:2023 Summer Camps | Somers
DESCRIPTION:Cost: $275\n\nBoys & Girls\n3rd Grade to 9th Grade\n\n9:00 AM – 3:00 PM
URL:https://eastcoastpanthers.com/event/2023-summer-camps-somers/
LOCATION:Somers High School\, 120 Primrose St\, Lincolndale\, NY\, 10540\, United States
CATEGORIES:Summer Camp
END:VEVENT
END:VCALENDAR